BEGIN:VCALENDAR
VERSION:2.0
PRODID:-//eventon.com NONSGML v1.0//EN
CALSCALE:GREGORIAN
METHOD:PUBLISH
BEGIN:VEVENT
UID:69e5e5f8aa019
DTSTAMP:20260420T083816Z
DTSTART:20260606T205300Z
DTEND:20260606T235900Z
LOCATION:Sgt Gregory Martin Park 116 Plaza Street
SUMMARY:Yadkin River Run 2026
DESCRIPTION:\nhttps://townofjonesvillenc.com/events/yadkin-river-run-2026/
URL:https://townofjonesvillenc.com/events/yadkin-river-run-2026/
END:VEVENT
END:VCALENDAR